BEGIN:VCALENDAR
VERSION:2.0
PRODID:-//ChamberMaster//Event Calendar 2.0//EN
METHOD:PUBLISH
X-PUBLISHED-TTL:P1H
REFRESH-INTERVAL:P1H
CALSCALE:GREGORIAN
BEGIN:VTIMEZONE
TZID:America/Denver
BEGIN:DAYLIGHT
RRULE:FREQ=YEARLY;BYMONTH=3;BYDAY=2SU
DTSTART:20070101T000000
TZOFFSETFROM:-0700
TZOFFSETTO:-0600
TZNAME:Mountain Daylight Time
END:DAYLIGHT
BEGIN:STANDARD
RRULE:FREQ=YEARLY;BYMONTH=11;BYDAY=1SU
DTSTART:20070101T000000
TZOFFSETFROM:-0600
TZOFFSETTO:-0700
TZNAME:Mountain Standard Time
END:STANDARD
END:VTIMEZONE
BEGIN:VEVENT
DTSTART;TZID=America/Denver:20260516T090000
DTEND;TZID=America/Denver:20260516T160000
X-MICROSOFT-CDO-ALLDAYEVENT:FALSE
SUMMARY:Victor J Riley Annual Golf Fundraiser
DESCRIPTION:Youth Clubs of Park County is excited to announce our Annual Golf Tournament on Saturday\, May 16\, 2026 at the Powell Golf Club. Brunch begins at 9:00 a.m. with a 10:00 a.m. shotgun start. This event is a great success each year because of the generous support of our sponsors\, prize donors\, and participants. We hope you will join us again this year. There are several ways to support the tournament: Hole Sponsorship   $275 Includes a tee box sign\, sponsor sheet recognition\, newspaper thank-you\, Facebook recognition\, and inclusion in our annual report. Hole Prizes   Merchandise or Gift Certificates Play in the Tournament   $100 per person / $400 per 4-person team Includes cart fee\, entry fee\, brunch\, beverages while they last\, prizes\, and awards. Players may register online at PowellGolfClub.org under the Events tab by searching for the Victor J. Riley event. Registration is open now\, and fees may be paid at check-in. Please return the enclosed form to: Youth Clubs of Park County 308 16th Street Cody\, WY 82414 If you are donating merchandise\, please return the form and one of our committee members will arrange pickup by Friday\, May 15\, 2026. Donations may also be dropped off at either our Powell or Cody Club locations. Proceeds from this event help Youth Clubs of Park County continue providing local youth with positive mentors and programs that support educational\, moral\, and social growth. Thank you for your support of our youth and our community. Sincerely\, Tiffany Wutzke Executive Director Youth Clubs of Park County
X-ALT-DESC;FMTTYPE=text/html:<!DOCTYPE html><html><head><title></title></head><body aria-disabled="false"><p>Youth Clubs of Park County is excited to announce our Annual Golf Tournament on Saturday\, May 16\, 2026 at the Powell Golf Club. Brunch begins at 9:00 a.m. with a 10:00 a.m. shotgun start. This event is a great success each year because of the generous support of our sponsors\, prize donors\, and participants.&nbsp\;</p><p>We hope you will join us again this year. There are several ways to support the tournament:&nbsp\;</p><p>Hole Sponsorship &mdash\; $275 Includes a tee box sign\, sponsor sheet recognition\, newspaper thank-you\, Facebook recognition\, and inclusion in our annual report.&nbsp\;</p><p>Hole Prizes &mdash\; Merchandise or Gift Certificates Play in the Tournament &mdash\; $100 per person / $400 per 4-person team Includes cart fee\, entry fee\, brunch\, beverages while they last\, prizes\, and awards.&nbsp\;</p><p>Players may register online at <a fr-original-style="" href="https://www.golfgenius.com/pages/11979834805169705641" style="user-select: auto\;">PowellGolfClub.org&nbsp\;</a>under the Events tab by searching for the Victor J. Riley event. Registration is open now\, and fees may be paid at check-in. Please return the enclosed form to: Youth Clubs of Park County 308 16th Street Cody\, WY 82414&nbsp\;</p><p>If you are donating merchandise\, please return the form and one of our committee members will arrange pickup by Friday\, May 15\, 2026. Donations may also be dropped off at either our Powell or Cody Club locations. Proceeds from this event help Youth Clubs of Park County continue providing local youth with positive mentors and programs that support educational\, moral\, and social growth.&nbsp\;</p><p>Thank you for your support of our youth and our community.&nbsp\;</p><p>Sincerely\,&nbsp\;</p><p>Tiffany Wutzke&nbsp\;</p><p>Executive Director Youth Clubs of Park County</p></body></html>
LOCATION:600 State Highway 114 Powell 82435
UID:e.4769.1447486
SEQUENCE:3
DTSTAMP:20260422T014421Z
URL:https://business.codychamber.org/events/Details/victor-j-riley-annual-golf-fundraiser-1714428?sourceTypeId=Hub
END:VEVENT
END:VCALENDAR
