BEGIN:VCALENDAR
VERSION:2.0
PRODID:-//ChamberMaster//Event Calendar 2.0//EN
METHOD:PUBLISH
X-PUBLISHED-TTL:P1H
REFRESH-INTERVAL:P1H
CALSCALE:GREGORIAN
BEGIN:VTIMEZONE
TZID:America/Denver
BEGIN:DAYLIGHT
RRULE:FREQ=YEARLY;BYMONTH=3;BYDAY=2SU
DTSTART:20070101T000000
TZOFFSETFROM:-0700
TZOFFSETTO:-0600
TZNAME:Mountain Daylight Time
END:DAYLIGHT
BEGIN:STANDARD
RRULE:FREQ=YEARLY;BYMONTH=11;BYDAY=1SU
DTSTART:20070101T000000
TZOFFSETFROM:-0600
TZOFFSETTO:-0700
TZNAME:Mountain Standard Time
END:STANDARD
END:VTIMEZONE
BEGIN:VEVENT
DTSTART;TZID=America/Denver:20260516T090000
DTEND;TZID=America/Denver:20260516T110000
X-MICROSOFT-CDO-ALLDAYEVENT:FALSE
SUMMARY:The Legacy Clinic. Long Covid
DESCRIPTION:Dr.Thoma will walk through why some people recover quickly while others continue to struggle with fatigue\, brain fog\, inflammation\, and lingering symptoms. You’ll learn how underlying systems in the body influence recovery and what may be preventing true healing.\n\nIf you’re still searching for answers or not feeling like yourself\, this seminar will help you better understand what your body is going through and what steps you can take toward recovery.
X-ALT-DESC;FMTTYPE=text/html:Dr.Thoma will walk through why some people recover quickly while others continue to struggle with fatigue\, brain fog\, inflammation\, and lingering symptoms. You’ll learn how underlying systems in the body influence recovery and what may be preventing true healing.\n\nIf you’re still searching for answers or not feeling like yourself\, this seminar will help you better understand what your body is going through and what steps you can take toward recovery.
LOCATION:1701 Sheridan Avenue Cody 82414
UID:e.4769.1447065
SEQUENCE:3
DTSTAMP:20260422T020023Z
URL:https://business.codychamber.org/events/Details/the-legacy-clinic-long-covid-1713887?sourceTypeId=Hub
END:VEVENT
END:VCALENDAR
