BEGIN:VCALENDAR
VERSION:2.0
PRODID:-//ChamberMaster//Event Calendar 2.0//EN
METHOD:PUBLISH
X-PUBLISHED-TTL:P1H
REFRESH-INTERVAL:P1H
CALSCALE:GREGORIAN
BEGIN:VTIMEZONE
TZID:America/Denver
BEGIN:DAYLIGHT
RRULE:FREQ=YEARLY;BYMONTH=3;BYDAY=2SU
DTSTART:20070101T000000
TZOFFSETFROM:-0700
TZOFFSETTO:-0600
TZNAME:Mountain Daylight Time
END:DAYLIGHT
BEGIN:STANDARD
RRULE:FREQ=YEARLY;BYMONTH=11;BYDAY=1SU
DTSTART:20070101T000000
TZOFFSETFROM:-0600
TZOFFSETTO:-0700
TZNAME:Mountain Standard Time
END:STANDARD
END:VTIMEZONE
BEGIN:VEVENT
DTSTART;TZID=America/Denver:20260501T100000
DTEND;TZID=America/Denver:20260501T120000
X-MICROSOFT-CDO-ALLDAYEVENT:FALSE
SUMMARY:Shredding Event
DESCRIPTION:Stonehouse Data Solutions will be at the Cody Country Chamber of Commerce on May 1 from 10am to 12pm (or until the truck fills up\, whichever comes first.) How much will it cost to participate? For Cody Country Chamber of Commerce members it will be free for up to 5 banker size boxes. After 5 it will cost $10 per box. For non-Chamber members it will be free for the first two banker size boxes\, and $10 per box after that.Stonehouse will also be offering on-site hard drive destruction. Cody Chamber members cost is $10 per hard-drive\, no limit. Non-Chamber members $15 per hard-drive\, no limit. How does it work? Please limit your box size to an average banker size box. If you require a large amount additional shredding\, please get in touch with Stonehouse Data Solutions to make arrangements for your extra materials.
X-ALT-DESC;FMTTYPE=text/html:<!DOCTYPE html><html><head><title></title><link rel="stylesheet" href="chrome-extension://cc784159-41ae-442c-b177-17dd35dec6a9/app/content-style.css"></head><body aria-disabled="false"><p>Stonehouse Data Solutions will be at the Cody Country Chamber of Commerce on May 1 from 10am to 12pm (or until the truck fills up\, whichever comes first.)&nbsp\;</p><p><strong fr-original-style="" style="font-weight: 700\;"><em>How much will it cost to participate?&nbsp\;</em></strong></p><p>For Cody Country Chamber of Commerce members it will be free for up to 5 banker size boxes. After 5 it will cost $10 per box.&nbsp\;</p><p>For non-Chamber members it will be free for the first two banker size boxes\, and $10 per box after that.</p><p>Stonehouse will also be offering on-site hard drive destruction. Cody Chamber members cost is $10 per hard-drive\, no limit. Non-Chamber members $15 per hard-drive\, no limit.&nbsp\;</p><p><strong fr-original-style="" style="font-weight: 700\;"><em>How does it work?&nbsp\;</em></strong></p><p>Please limit your box size to an average banker size box. If you require a large amount additional shredding\, please get in touch with <a fr-original-style="" href="https://business.codychamber.org/member-directory/Details/stonehouse-data-solutions-4741545" rel="noopener noreferrer" style="user-select: auto\;" target="_blank">Stonehouse Data Solutions</a> to make arrangements for your extra materials.</p></body></html>
LOCATION:836 Sheridan Avenue Cody WY 82414
UID:e.4769.1447435
SEQUENCE:3
DTSTAMP:20260422T014549Z
URL:https://business.codychamber.org/events/Details/shredding-event-1714371?sourceTypeId=Hub
END:VEVENT
END:VCALENDAR
