BEGIN:VCALENDAR
VERSION:2.0
PRODID:-//ChamberMaster//Event Calendar 2.0//EN
METHOD:PUBLISH
X-PUBLISHED-TTL:P1H
REFRESH-INTERVAL:P1H
CALSCALE:GREGORIAN
BEGIN:VTIMEZONE
TZID:America/Denver
BEGIN:DAYLIGHT
RRULE:FREQ=YEARLY;BYMONTH=3;BYDAY=2SU
DTSTART:20070101T000000
TZOFFSETFROM:-0700
TZOFFSETTO:-0600
TZNAME:Mountain Daylight Time
END:DAYLIGHT
BEGIN:STANDARD
RRULE:FREQ=YEARLY;BYMONTH=11;BYDAY=1SU
DTSTART:20070101T000000
TZOFFSETFROM:-0600
TZOFFSETTO:-0700
TZNAME:Mountain Standard Time
END:STANDARD
END:VTIMEZONE
BEGIN:VEVENT
DTSTART;TZID=America/Denver:20260424T160000
DTEND;TZID=America/Denver:20260424T190000
X-MICROSOFT-CDO-ALLDAYEVENT:FALSE
SUMMARY:Grape & Grain Re-Brand Opening!
DESCRIPTION:We're officially celebrating the completion of our market remodel and the launch of Grape and Grain Market and Lounge with a ribbon cutting this Friday\, April 24th at 4:00 PM. Come join us for: Ribbon cutting ceremony\, Light Snacks & Product Tastings! The community has been overwhelmingly supportive and we want to celebrate with you!
X-ALT-DESC;FMTTYPE=text/html:<!DOCTYPE html><html><head><title></title></head><body aria-disabled="false"><p>We&rsquo\;re officially celebrating the completion of our market remodel and the launch of <a fr-original-style="" href="https://www.facebook.com/events/1308011377983102" rel="noopener noreferrer" style="user-select: auto\;" target="_blank">Grape and Grain Market and Lounge</a> with a ribbon cutting this Friday\, April 24th at 4:00 PM. Come join us for: Ribbon cutting ceremony\, Light Snacks &amp\; Product Tastings! The community has been overwhelmingly supportive and we want to celebrate with you!</p></body></html>
LOCATION:1820 17th Street Cody WY 82414
UID:e.4769.1447027
SEQUENCE:3
DTSTAMP:20260422T014549Z
URL:https://business.codychamber.org/events/Details/grape-grain-re-brand-opening-1713849?sourceTypeId=Hub
END:VEVENT
END:VCALENDAR
